BEGIN:VCALENDAR
VERSION:2.0
PRODID:-//F20 Cycling - ECPv6.15.20//NONSGML v1.0//EN
CALSCALE:GREGORIAN
METHOD:PUBLISH
X-WR-CALNAME:F20 Cycling
X-ORIGINAL-URL:https://f20cycling.com
X-WR-CALDESC:Events for F20 Cycling
REFRESH-INTERVAL;VALUE=DURATION:PT1H
X-Robots-Tag:noindex
X-PUBLISHED-TTL:PT1H
BEGIN:VTIMEZONE
TZID:UTC
BEGIN:STANDARD
TZOFFSETFROM:+0000
TZOFFSETTO:+0000
TZNAME:UTC
DTSTART:20240101T000000
END:STANDARD
END:VTIMEZONE
BEGIN:VEVENT
DTSTART;TZID=UTC:20250721T080000
DTEND;TZID=UTC:20250722T170000
DTSTAMP:20260425T222454
CREATED:20190925T081604Z
LAST-MODIFIED:20250626T082151Z
UID:551-1753084800-1753203600@f20cycling.com
SUMMARY:Epe Crit External Ride – Epic One-Day Cycling Adventure
DESCRIPTION:Epe Crit External Ride – One-Day Cycling Adventure\n\nHome / Events / Road Race / Epe Crit External Ride\n\n🚴‍♂ Date: July 21\, 2025\n📍 Location: Epe\, Lagos State\, Nigeria\n\nGet ready for one of the most exciting road cycling events of the year! The Epe Crit External Ride promises a high-speed\, adrenaline-fueled adventure through the scenic and challenging routes of Epe.\n\nThis one-day ride is tailored for road warriors and cycling enthusiasts who are looking to push their limits\, enjoy camaraderie\, and soak in the spirit of the F20 cycling family. Riders will be supported by a fully equipped crew\, including:\n•🚑 First Aid & Emergency Response Team\n•🔧 Mobile Mechanics\n•🚓 Escort Marshals\n•🚐 Support & Pick-Up Vehicles\n•🥤 Hydration and Refreshment Stations\n\nWhether you’re coming to compete\, build endurance\, or simply enjoy the thrill of the open road\, this ride is for you. Expect high energy\, fast lanes\, and vibes you won’t forget.\n\n⸻\n\nRegistration opens soon!\nStay tuned for more details and route maps. Don’t miss your chance to ride with the best!
URL:https://f20cycling.com/event/granfordo-tre-vali-2/
LOCATION:Lekki Epe\, Lekki-Epe Expressway\, Island\, Lagos\, 106104\, Nigeria
CATEGORIES:Sport
ATTACH;FMTTYPE=image/jpeg:https://f20cycling.com/wp-content/uploads/2019/09/IMG_0965.jpeg
ORGANIZER;CN="F20 Cycling Club":MAILTO:info@f20cycling.com
END:VEVENT
END:VCALENDAR